BEGIN:VCALENDAR
VERSION:2.0
PRODID:-//wp-events-plugin.com//7.2.3.1//EN
TZID:Europe/Berlin
X-WR-TIMEZONE:Europe/Berlin
BEGIN:VEVENT
UID:180@umweltakademie-duesseldorf.de
DTSTART;TZID=Europe/Berlin:20260615T163000
DTEND;TZID=Europe/Berlin:20260615T220000
DTSTAMP:20260417T111813Z
URL:https://umweltakademie-duesseldorf.de/events/100-jahre-feier/
SUMMARY:100 Jahre Feier
DESCRIPTION:
CATEGORIES:Innung
LOCATION:Gebäudereiniger-Innung\, Klosterstraße 73-75\, Düsseldorf\, 402
 11\, Deutschland
X-APPLE-STRUCTURED-LOCATION;VALUE=URI;X-ADDRESS=Klosterstraße 73-75\, Düs
 seldorf\, 40211\, Deutschland;X-APPLE-RADIUS=100;X-TITLE=Gebäudereiniger-
 Innung:geo:0,0
END:VEVENT
BEGIN:VTIMEZONE
TZID:Europe/Berlin
X-LIC-LOCATION:Europe/Berlin
BEGIN:DAYLIGHT
DTSTART:20260329T030000
TZOFFSETFROM:+0100
TZOFFSETTO:+0200
TZNAME:CEST
END:DAYLIGHT
END:VTIMEZONE
END:VCALENDAR