BEGIN:VCALENDAR
VERSION:2.0
PRODID:-//wp-events-plugin.com//7.2.3.1//EN
TZID:Europe/Berlin
X-WR-TIMEZONE:Europe/Berlin
BEGIN:VEVENT
UID:182@umweltakademie-duesseldorf.de
DTSTART;TZID=Europe/Berlin:20261210T170000
DTEND;TZID=Europe/Berlin:20261210T220000
DTSTAMP:20260417T112155Z
URL:https://umweltakademie-duesseldorf.de/events/innungsversammlung-weihna
 chtsfeier/
SUMMARY:Innungsversammlung / Weihnachtsfeier
DESCRIPTION:
CATEGORIES:Innung
LOCATION:Gebäudereiniger-Innung\, Klosterstraße 73-75\, Düsseldorf\, 402
 11\, Deutschland
X-APPLE-STRUCTURED-LOCATION;VALUE=URI;X-ADDRESS=Klosterstraße 73-75\, Düs
 seldorf\, 40211\, Deutschland;X-APPLE-RADIUS=100;X-TITLE=Gebäudereiniger-
 Innung:geo:0,0
END:VEVENT
BEGIN:VTIMEZONE
TZID:Europe/Berlin
X-LIC-LOCATION:Europe/Berlin
BEGIN:STANDARD
DTSTART:20261025T020000
TZOFFSETFROM:+0200
TZOFFSETTO:+0100
TZNAME:CET
END:STANDARD
END:VTIMEZONE
END:VCALENDAR