BEGIN:VCALENDAR
VERSION:2.0
PRODID:-//wp-events-plugin.com//7.2.3.1//EN
TZID:Europe/Berlin
X-WR-TIMEZONE:Europe/Berlin
BEGIN:VEVENT
UID:179@umweltakademie-duesseldorf.de
DTSTART;TZID=Europe/Berlin:20260424T090000
DTEND;TZID=Europe/Berlin:20260424T150000
DTSTAMP:20260417T110854Z
URL:https://umweltakademie-duesseldorf.de/events/lust-auf-handwerk/
SUMMARY:Messe "Lust auf Handwerk"
DESCRIPTION:
CATEGORIES:Innung
LOCATION:Campus der Freiherr-vom-Stein-Realschule und des Technischen Beruf
 skollegs Färberstraße\, Färberstraße 34/40\, Düsseldorf\, 40223\, Deu
 tschland
X-APPLE-STRUCTURED-LOCATION;VALUE=URI;X-ADDRESS=Färberstraße 34/40\, Düs
 seldorf\, 40223\, Deutschland;X-APPLE-RADIUS=100;X-TITLE=Campus der Freihe
 rr-vom-Stein-Realschule und des Technischen Berufskollegs Färberstraße:g
 eo:0,0
END:VEVENT
BEGIN:VTIMEZONE
TZID:Europe/Berlin
X-LIC-LOCATION:Europe/Berlin
BEGIN:DAYLIGHT
DTSTART:20260329T030000
TZOFFSETFROM:+0100
TZOFFSETTO:+0200
TZNAME:CEST
END:DAYLIGHT
END:VTIMEZONE
END:VCALENDAR